BEGIN:VCALENDAR
VERSION:2.0
PRODID:-//DJ MaxX - ECPv6.15.20//NONSGML v1.0//EN
CALSCALE:GREGORIAN
METHOD:PUBLISH
X-WR-CALNAME:DJ MaxX
X-ORIGINAL-URL:https://djmaxx.at
X-WR-CALDESC:Veranstaltungen für DJ MaxX
REFRESH-INTERVAL;VALUE=DURATION:PT1H
X-Robots-Tag:noindex
X-PUBLISHED-TTL:PT1H
BEGIN:VTIMEZONE
TZID:UTC
BEGIN:STANDARD
TZOFFSETFROM:+0000
TZOFFSETTO:+0000
TZNAME:UTC
DTSTART:20240101T000000
END:STANDARD
END:VTIMEZONE
BEGIN:VEVENT
DTSTART;VALUE=DATE:20250524
DTEND;VALUE=DATE:20250525
DTSTAMP:20260424T131606
CREATED:20250107T095707Z
LAST-MODIFIED:20250107T100905Z
UID:451-1748044800-1748131199@djmaxx.at
SUMMARY:Ausgebucht-Privat
DESCRIPTION:
URL:https://djmaxx.at/event/ausgebucht-28/
END:VEVENT
BEGIN:VEVENT
DTSTART;VALUE=DATE:20250530
DTEND;VALUE=DATE:20250531
DTSTAMP:20260424T131606
CREATED:20250107T095603Z
LAST-MODIFIED:20250107T100957Z
UID:449-1748563200-1748649599@djmaxx.at
SUMMARY:Ausgebucht-Privat
DESCRIPTION:
URL:https://djmaxx.at/event/ausgebucht-27/
END:VEVENT
END:VCALENDAR